BEGIN:VCALENDAR
VERSION:2.0
PRODID:-//brq - ECPv6.10.3//NONSGML v1.0//EN
CALSCALE:GREGORIAN
METHOD:PUBLISH
X-WR-CALNAME:brq
X-ORIGINAL-URL:https://bricspolicycenter.org
X-WR-CALDESC:Eventos para brq
REFRESH-INTERVAL;VALUE=DURATION:PT1H
X-Robots-Tag:noindex
X-PUBLISHED-TTL:PT1H
BEGIN:VTIMEZONE
TZID:America/Sao_Paulo
BEGIN:STANDARD
TZOFFSETFROM:-0200
TZOFFSETTO:-0300
TZNAME:-03
DTSTART:20180218T020000
END:STANDARD
BEGIN:DAYLIGHT
TZOFFSETFROM:-0300
TZOFFSETTO:-0200
TZNAME:-02
DTSTART:20181104T030000
END:DAYLIGHT
END:VTIMEZONE
BEGIN:VEVENT
DTSTART;TZID=America/Sao_Paulo:20180312T100000
DTEND;TZID=America/Sao_Paulo:20180312T180000
DTSTAMP:20260419T112815
CREATED:20180220T160008Z
LAST-MODIFIED:20180220T160138Z
UID:3743-1520848800-1520877600@bricspolicycenter.org
SUMMARY:I “Diálogos Latino-Americanos em Transformação de Conflitos: Recortes e Intersecções na Produção da Paz”
DESCRIPTION:A Unidade do Sul Global para a Mediação (GSUM/PUC-Rio) realizará o evento I “Diálogos Latino-Americanos em Transformação de Conflitos: Recortes e Intersecções na Produção da Paz”\, em 12 de março de 2018 das 10h às 18h\, no BRICS Policy Center. \nO evento será o primeiro de uma série de encontros e debates que visam aprofundar a interlocução entre atores governamentais\, da sociedade civil e academia acerca das experiências regionais em mediação internacional e outras iniciativas pela promoção da paz e da segurança na América Latina. O primeiro debate da série discutirá\, em particular\, o papel das organizações multilaterais nas dinâmicas de resolução de conflitos na América Latina; as dimensões de gênero e a participação de mulheres na promoção e consolidação da paz na região; e as perspectivas latino-americanas acerca do processo de paz e do contexto pós-conflito na Colômbia. \nO debate contará com a participação de diversos profissionais e especialistas na área\, vindos de diferentes contextos latino-americanos. Confira a programação preliminar do evento aqui. \nAs vagas são limitadas. Para participar do evento\, pedimos que confirme sua presença até 02 de março enviando um e-mail com seu nome e filiação institucional para gsum@bricspolicycenter.org \n  \n*Os debates ocorrerão em português e espanhol. Não haverá tradução simultânea. \nAcompanhe o GSUM no Facebook para saber mais sobre este evento e outras atividades.
URL:https://bricspolicycenter.org/eventos/i-dialogos-latino-americanos-em-transformacao-de-conflitos-recortes-e-interseccoes-na-producao-da-paz/
LOCATION:Rio de Janeiro
CATEGORIES:Workshop
ATTACH;FMTTYPE=image/jpeg:https://bricspolicycenter.org/wp-content/uploads/2018/02/183289700.jpg
END:VEVENT
END:VCALENDAR