BEGIN:VCALENDAR
VERSION:2.0
PRODID:-//brq - ECPv6.10.3//NONSGML v1.0//EN
CALSCALE:GREGORIAN
METHOD:PUBLISH
X-ORIGINAL-URL:https://bricspolicycenter.org
X-WR-CALDESC:Eventos para brq
REFRESH-INTERVAL;VALUE=DURATION:PT1H
X-Robots-Tag:noindex
X-PUBLISHED-TTL:PT1H
BEGIN:VTIMEZONE
TZID:America/Sao_Paulo
BEGIN:STANDARD
TZOFFSETFROM:-0200
TZOFFSETTO:-0300
TZNAME:-03
DTSTART:20170219T020000
END:STANDARD
BEGIN:DAYLIGHT
TZOFFSETFROM:-0300
TZOFFSETTO:-0200
TZNAME:-02
DTSTART:20171015T030000
END:DAYLIGHT
END:VTIMEZONE
BEGIN:VEVENT
DTSTART;TZID=America/Sao_Paulo:20171023T100000
DTEND;TZID=America/Sao_Paulo:20171027T180000
DTSTAMP:20260419T195308
CREATED:20180119T134831Z
LAST-MODIFIED:20180119T134831Z
UID:3264-1508752800-1509127200@bricspolicycenter.org
SUMMARY:Global South Doctoral Workshop
DESCRIPTION:O workshop de 2017 é organizado conjuntamente entre o The Graduate Institute of International and Development Studies\, Genebra e o Instituto de Relações Internacionais da PUC-Rio e acontecerá entre 23 e 27 de outubro\, 2017 \nO workshop é uma oportunidade para doutorandos dos países do Sul Global participarem de uma semana de discussão de suas teses com professores e estudantes de PhD do Graduate Institute of International and Development Studies e da PUC-Rio. O programa busca desenvolver trocas intelectuais e networking entre jovens acadêmicos. \n  \nO formulário para inscrição online pode ser acessado aqui. \nOs documentos requeridos consistem em: \n– Um resumo de 2000 palavras sobre o seu projeto de doutorado \n– Um capítulo rascunho da sua tese de doutorado ou um esboço da tese \nOs documentos devem ser enviados para: southworkshop@graduateinstitute.ch
URL:https://bricspolicycenter.org/eventos/global-south-doctoral-workshop/
LOCATION:Rio de Janeiro
CATEGORIES:Workshop
ATTACH;FMTTYPE=image/jpeg:https://bricspolicycenter.org/wp-content/uploads/2018/01/ev5.jpg
END:VEVENT
END:VCALENDAR