BEGIN:VCALENDAR
VERSION:2.0
PRODID:-//brq - ECPv6.10.3//NONSGML v1.0//EN
CALSCALE:GREGORIAN
METHOD:PUBLISH
X-ORIGINAL-URL:https://bricspolicycenter.org
X-WR-CALDESC:Eventos para brq
REFRESH-INTERVAL;VALUE=DURATION:PT1H
X-Robots-Tag:noindex
X-PUBLISHED-TTL:PT1H
BEGIN:VTIMEZONE
TZID:America/Sao_Paulo
BEGIN:STANDARD
TZOFFSETFROM:-0200
TZOFFSETTO:-0300
TZNAME:-03
DTSTART:20160221T020000
END:STANDARD
BEGIN:DAYLIGHT
TZOFFSETFROM:-0300
TZOFFSETTO:-0200
TZNAME:-02
DTSTART:20161016T030000
END:DAYLIGHT
END:VTIMEZONE
BEGIN:VEVENT
DTSTART;VALUE=DATE:20160627
DTEND;VALUE=DATE:20160709
DTSTAMP:20260422T175852
CREATED:20160627T170847Z
LAST-MODIFIED:20180828T183551Z
UID:7009-1466985600-1468022399@bricspolicycenter.org
SUMMARY:Escola  de  Inverno IPS 2016
DESCRIPTION:Temos  o  prazer  de  anunciar  que  as  inscrições  para  a  Escola  de  Inverno IPS 2016 estão abertas. As vagas são limitadas a 35 participantes por semana e serão preenchidas por ordem de inscrição. Para participar\, o candidato deve ser aluno de pós-graduação  e/ou  acadêmico  em  início  de  carreira. A data  final  para  as  inscrições  está  prevista para segunda-feira\, dia 30 de maio de 2016. \nClique aqui para ver mais
URL:https://bricspolicycenter.org/eventos/escola-de-inverno-ips-2016/
LOCATION:PUC-Rio\, R. Marquês de São Vicente\, 225 - Gávea\, Rio de Janeiro\, Rio de Janeiro\, 22451-900\, Brasil
CATEGORIES:Workshop
ATTACH;FMTTYPE=image/jpeg:https://bricspolicycenter.org/wp-content/uploads/2018/08/t.jpg
END:VEVENT
BEGIN:VEVENT
DTSTART;VALUE=DATE:20160711
DTEND;VALUE=DATE:20160723
DTSTAMP:20260422T175852
CREATED:20160722T164318Z
LAST-MODIFIED:20180828T190456Z
UID:6991-1468195200-1469231999@bricspolicycenter.org
SUMMARY:Brazilian Seminars
DESCRIPTION:O “Brazilian Seminars” é uma escola de verão internacional desenvolvido pela PUC-Rio\, através da Coordenação Central de Cooperação Internacional (CCCI)\, que oferece à estudantes e jovens pesquisadores a oportunidade de aprofundar os seus conhecimentos sobre Brasil. \nÉ um programa interdisciplinar concebido para dar uma ampla perspectiva de questões brasileiras atualmente inseridas no cenário global. \nUm programa de 48 horas de palestras e atividades\, que oferecem um panorama sobre diferentes aspectos do Brasil\, que vão da política à questões ambientais\, da cultura à saúde pública. \nData: 11 a 22 de Julho\nLocal: PUC-Rio\nDuração: 48 horas \nBaixe aqui o programa para obter informações completas.
URL:https://bricspolicycenter.org/eventos/brazilian-seminars/
LOCATION:Rio de Janeiro
CATEGORIES:Workshop
ATTACH;FMTTYPE=image/png:https://bricspolicycenter.org/wp-content/uploads/2018/08/n.png
END:VEVENT
BEGIN:VEVENT
DTSTART;VALUE=DATE:20160711
DTEND;VALUE=DATE:20160723
DTSTAMP:20260422T175852
CREATED:20160722T164743Z
LAST-MODIFIED:20180828T190219Z
UID:6994-1468195200-1469231999@bricspolicycenter.org
SUMMARY:Escola de Inverno GSUM 2016 sobre Mediação International
DESCRIPTION:Organizada pela Unidade do Sul Global para Mediação (GSUM)\, a Escola de Inverno é um programa acadêmico e de treinamento intensivo sobre mediação internacional com duração de duas semanas\, de 11 a 22 de julho\, que ocorre na cidade do Rio de Janeiro\, Brasil. A Escola oferece\, no máximo\, 24 vagas por semana para estudantes que buscam ter uma experiência intensiva e substantiva de aprendizado e treinamento na teoria e na prática da mediação internacional\, com foco particular em questões relativas ao Sul Global. \n  \nEm breve\, o edital com as informações sobre as inscrições para a Escola de Inverno GSUM 2016 estará disponível.
URL:https://bricspolicycenter.org/eventos/gsum-winter-school-on-international-mediation/
LOCATION:PUC-Rio\, R. Marquês de São Vicente\, 225 - Gávea\, Rio de Janeiro\, Rio de Janeiro\, 22451-900\, Brasil
CATEGORIES:Workshop
ATTACH;FMTTYPE=image/jpeg:https://bricspolicycenter.org/wp-content/uploads/2018/08/o.jpg
END:VEVENT
END:VCALENDAR