BEGIN:VCALENDAR
VERSION:2.0
PRODID:-//brq - ECPv6.10.3//NONSGML v1.0//EN
CALSCALE:GREGORIAN
METHOD:PUBLISH
X-ORIGINAL-URL:https://bricspolicycenter.org
X-WR-CALDESC:Eventos para brq
REFRESH-INTERVAL;VALUE=DURATION:PT1H
X-Robots-Tag:noindex
X-PUBLISHED-TTL:PT1H
BEGIN:VTIMEZONE
TZID:America/Sao_Paulo
BEGIN:STANDARD
TZOFFSETFROM:-0200
TZOFFSETTO:-0300
TZNAME:-03
DTSTART:20160221T020000
END:STANDARD
BEGIN:DAYLIGHT
TZOFFSETFROM:-0300
TZOFFSETTO:-0200
TZNAME:-02
DTSTART:20161016T030000
END:DAYLIGHT
END:VTIMEZONE
BEGIN:VEVENT
DTSTART;VALUE=DATE:20160627
DTEND;VALUE=DATE:20160709
DTSTAMP:20260422T192439
CREATED:20160627T170847Z
LAST-MODIFIED:20180828T183551Z
UID:7009-1466985600-1468022399@bricspolicycenter.org
SUMMARY:Escola  de  Inverno IPS 2016
DESCRIPTION:Temos  o  prazer  de  anunciar  que  as  inscrições  para  a  Escola  de  Inverno IPS 2016 estão abertas. As vagas são limitadas a 35 participantes por semana e serão preenchidas por ordem de inscrição. Para participar\, o candidato deve ser aluno de pós-graduação  e/ou  acadêmico  em  início  de  carreira. A data  final  para  as  inscrições  está  prevista para segunda-feira\, dia 30 de maio de 2016. \nClique aqui para ver mais
URL:https://bricspolicycenter.org/eventos/escola-de-inverno-ips-2016/
LOCATION:PUC-Rio\, R. Marquês de São Vicente\, 225 - Gávea\, Rio de Janeiro\, Rio de Janeiro\, 22451-900\, Brasil
CATEGORIES:Workshop
ATTACH;FMTTYPE=image/jpeg:https://bricspolicycenter.org/wp-content/uploads/2018/08/t.jpg
END:VEVENT
END:VCALENDAR