BEGIN:VCALENDAR
VERSION:2.0
PRODID:-//brq - ECPv6.10.3//NONSGML v1.0//EN
CALSCALE:GREGORIAN
METHOD:PUBLISH
X-ORIGINAL-URL:https://bricspolicycenter.org
X-WR-CALDESC:Eventos para brq
REFRESH-INTERVAL;VALUE=DURATION:PT1H
X-Robots-Tag:noindex
X-PUBLISHED-TTL:PT1H
BEGIN:VTIMEZONE
TZID:America/Sao_Paulo
BEGIN:STANDARD
TZOFFSETFROM:-0200
TZOFFSETTO:-0300
TZNAME:-03
DTSTART:20150222T020000
END:STANDARD
BEGIN:DAYLIGHT
TZOFFSETFROM:-0300
TZOFFSETTO:-0200
TZNAME:-02
DTSTART:20151018T030000
END:DAYLIGHT
END:VTIMEZONE
BEGIN:VEVENT
DTSTART;VALUE=DATE:20150630
DTEND;VALUE=DATE:20150701
DTSTAMP:20260423T150655
CREATED:20150710T182456Z
LAST-MODIFIED:20180827T190829Z
UID:7068-1435622400-1435708799@bricspolicycenter.org
SUMMARY:Rumo à COP21: Mudanças Climáticas e a Agenda Ambiental BASIC
DESCRIPTION:No dia 30 de junho de 2015\, foi realizado o workshop “Rumo à COP21: Mudanças Climáticas e a Agenda Ambiental BASIC”\, fruto da parceria entre o BRICS Policy Center (BPC) e o GIP – Gestão de Interesse Público. Nesta primeira etapa da parceria BPC/GIP\, tivemos o prazer de contar com a presença e contribuição do Ministro Everton Lucero (Itamaraty)\, Prof. Sergio Bruni\, Vice-Reitor de Desenvolvimento da PUC-Rio\, Délcio Rodrigues (Observatório do Clima) e Camila Moreno\, membro do grupo Carta de Belém. \nDurante o workshop\, representantes de diferentes grupos (sociedade civil\, academia e governo) tiveram a oportunidade de debater grandes temas da agenda de negociações internacionais de mudanças climáticas\, em particular a posição brasileira vis-a-vis o bloco BASIC nas negociações.
URL:https://bricspolicycenter.org/eventos/rumo-a-cop21-mudancas-climaticas-e-a-agenda-ambiental-basic-2/
LOCATION:BRICS Policy Center (antigo)\, Rua Dona Mariana\, 63\, Rio de Janeiro\, Rio de Janeiro\, 22280020\, Brasil
CATEGORIES:Workshop
ATTACH;FMTTYPE=image/jpeg:https://bricspolicycenter.org/wp-content/uploads/2018/08/z12.jpg
END:VEVENT
BEGIN:VEVENT
DTSTART;TZID=America/Sao_Paulo:20150630T080000
DTEND;TZID=America/Sao_Paulo:20150630T120000
DTSTAMP:20260423T150655
CREATED:20180803T172600Z
LAST-MODIFIED:20180803T174101Z
UID:6463-1435651200-1435665600@bricspolicycenter.org
SUMMARY:Rumo à COP21: Mudanças Climáticas e a Agenda Ambiental BASIC
DESCRIPTION:No dia 30 de junho de 2015\, foi realizado o workshop “Rumo à COP21: Mudanças Climáticas e a Agenda Ambiental BASIC”\, fruto da parceria entre o BRICS Policy Center (BPC) e o GIP – Gestão de Interesse Público. Nesta primeira etapa da parceria BPC/GIP\, tivemos o prazer de contar com a presença e contribuição do Ministro Everton Lucero (Itamaraty)\, Prof. Sergio Bruni\, Vice-Reitor de Desenvolvimento da PUC-Rio\, Délcio Rodrigues (Observatório do Clima) e Camila Moreno\, membro do grupo Carta de Belém. \nDurante o workshop\, representantes de diferentes grupos (sociedade civil\, academia e governo) tiveram a oportunidade de debater grandes temas da agenda de negociações internacionais de mudanças climáticas\, em particular a posição brasileira vis-a-vis o bloco BASIC nas negociações.
URL:https://bricspolicycenter.org/eventos/rumo-a-cop21-mudancas-climaticas-e-a-agenda-ambiental-basic/
LOCATION:BRICS Policy Center (antigo)\, Rua Dona Mariana\, 63\, Rio de Janeiro\, Rio de Janeiro\, 22280020\, Brasil
CATEGORIES:Workshop
ATTACH;FMTTYPE=image/jpeg:https://bricspolicycenter.org/wp-content/uploads/2018/08/30-06-2015.jpg
END:VEVENT
END:VCALENDAR