BEGIN:VCALENDAR
VERSION:2.0
PRODID:-//brq - ECPv6.10.3//NONSGML v1.0//EN
CALSCALE:GREGORIAN
METHOD:PUBLISH
X-WR-CALNAME:brq
X-ORIGINAL-URL:https://bricspolicycenter.org
X-WR-CALDESC:Eventos para brq
REFRESH-INTERVAL;VALUE=DURATION:PT1H
X-Robots-Tag:noindex
X-PUBLISHED-TTL:PT1H
BEGIN:VTIMEZONE
TZID:America/Sao_Paulo
BEGIN:STANDARD
TZOFFSETFROM:-0200
TZOFFSETTO:-0300
TZNAME:-03
DTSTART:20140216T020000
END:STANDARD
BEGIN:DAYLIGHT
TZOFFSETFROM:-0300
TZOFFSETTO:-0200
TZNAME:-02
DTSTART:20141019T030000
END:DAYLIGHT
END:VTIMEZONE
BEGIN:VEVENT
DTSTART;TZID=America/Sao_Paulo:20141113T140000
DTEND;TZID=America/Sao_Paulo:20141113T180000
DTSTAMP:20260424T021757
CREATED:20141113T160756Z
LAST-MODIFIED:20180827T183122Z
UID:7123-1415887200-1415901600@bricspolicycenter.org
SUMMARY:Processos de Paz na Colômbia: Debate sobre o documentário "Insurgência pela Paz"
DESCRIPTION:O BRICS Policy center e a Unidade de Mediação do Sul Global convidam para o evento “Processos de Paz na Colômbia: Debate sobre o documentário “Insurgência pela Paz””\, a ser realizado no dia 13/11 às 14hs no BRICS Policy Center*. O encontro contará com a presença do diretor do filme Guillermo Planel e do jornalista colombiano e correspondente da Agência EFE no Rio de Janeiro\, Carlos A.Moreno. \nPedimos\, por favor\, para confirmar presença através do e-mail: gsum@bricspolicycenter.org (lugares limitados) \nO BRICS Policy Center está localizado na Rua Dona Mariana\, 63 – Botafogo – Rio de Janeiro – RJ
URL:https://bricspolicycenter.org/eventos/processos-de-paz-na-colombia-debate-sobre-o-documentario-insurgencia-pela-paz/
LOCATION:BRICS Policy Center (antigo)\, Rua Dona Mariana\, 63\, Rio de Janeiro\, Rio de Janeiro\, 22280020\, Brasil
CATEGORIES:Seminário,Workshop
ATTACH;FMTTYPE=image/png:https://bricspolicycenter.org/wp-content/uploads/2018/08/z21.png
END:VEVENT
END:VCALENDAR