BEGIN:VCALENDAR
VERSION:2.0
PRODID:-//brq - ECPv6.10.3//NONSGML v1.0//EN
CALSCALE:GREGORIAN
METHOD:PUBLISH
X-WR-CALNAME:brq
X-ORIGINAL-URL:https://bricspolicycenter.org
X-WR-CALDESC:Eventos para brq
REFRESH-INTERVAL;VALUE=DURATION:PT1H
X-Robots-Tag:noindex
X-PUBLISHED-TTL:PT1H
BEGIN:VTIMEZONE
TZID:America/Sao_Paulo
BEGIN:STANDARD
TZOFFSETFROM:-0200
TZOFFSETTO:-0300
TZNAME:-03
DTSTART:20140216T020000
END:STANDARD
BEGIN:DAYLIGHT
TZOFFSETFROM:-0300
TZOFFSETTO:-0200
TZNAME:-02
DTSTART:20141019T030000
END:DAYLIGHT
END:VTIMEZONE
BEGIN:VEVENT
DTSTART;VALUE=DATE:20140606
DTEND;VALUE=DATE:20140607
DTSTAMP:20260424T092158
CREATED:20140606T180747Z
LAST-MODIFIED:20180827T174926Z
UID:7159-1402012800-1402099199@bricspolicycenter.org
SUMMARY:Doing Business in Latin America: Rio de Janeiro\, Brazil
DESCRIPTION:A Coordenação Central de Cooperação Internacional (CCCI) da PUC-Rio organizou o programa “Doing Business in Latin America: Rio de Janeiro\, Brazil” \, onde recebeu 15 (quinze) estudantes de graduação da State University of New York (SUNY)\, New Paltz\, instituição parceira da PUC-Rio. Os alunos foram acompanhados pelo\, Dr. Kevin Caskey e tiveram a oportunidade de visitar diferentes instituições durante a estada no Rio de Janeiro. Como parte do programa\, a CCCI organizou uma série de palestras sobre diferentes temas para os estudantes estrangeiros. O BRICS Policy Center / Instituto de Relações Internacionais (IRI) participou de alguns debates a respeito dos países BRICS. \nNo dia 06 de junho\, O prof. Carlo Patti\, pesquisador do BRICS Policy Center e coordenador da unidade Country Desks\, debateu o tema “BRICS no sistema internacional”\, apresentando as origens e a evolução do agrupamento\, bem como os desafios que podem vir a enfrentar futuramente. Por fim\, o prof. Carlos Frederico Pereira da Silva Gama (IRI/PUC-Rio) tratou do tópico “MERCOSUL/MERCOSUR: A turbulent history of South American integration”\, discorrendo sobre a construção do bloco\, os seus principais organismos e avanços\, como também os desafios criados pelo Tratado de Assunção (1991).
URL:https://bricspolicycenter.org/eventos/doing-business-in-latin-america-rio-de-janeiro-brazil/
LOCATION:Rio de Janeiro\, Rio de Janeiro\, RJ\, Brasil
CATEGORIES:Workshop
ATTACH;FMTTYPE=image/jpeg:https://bricspolicycenter.org/wp-content/uploads/2018/08/z32.jpg
END:VEVENT
END:VCALENDAR