BEGIN:VCALENDAR
VERSION:2.0
PRODID:-//brq - ECPv6.10.3//NONSGML v1.0//EN
CALSCALE:GREGORIAN
METHOD:PUBLISH
X-ORIGINAL-URL:https://bricspolicycenter.org
X-WR-CALDESC:Eventos para brq
REFRESH-INTERVAL;VALUE=DURATION:PT1H
X-Robots-Tag:noindex
X-PUBLISHED-TTL:PT1H
BEGIN:VTIMEZONE
TZID:America/Sao_Paulo
BEGIN:STANDARD
TZOFFSETFROM:-0200
TZOFFSETTO:-0300
TZNAME:-03
DTSTART:20140216T020000
END:STANDARD
BEGIN:DAYLIGHT
TZOFFSETFROM:-0300
TZOFFSETTO:-0200
TZNAME:-02
DTSTART:20141019T030000
END:DAYLIGHT
END:VTIMEZONE
BEGIN:VEVENT
DTSTART;VALUE=DATE:20140509
DTEND;VALUE=DATE:20140510
DTSTAMP:20260424T105129
CREATED:20140509T183753Z
LAST-MODIFIED:20180827T172812Z
UID:7176-1399593600-1399679999@bricspolicycenter.org
SUMMARY:O BRICS Policy Center recebe membros da delegação da UE no Brasil
DESCRIPTION:O prof. Paulo Esteves (supervisor) e a Sra. Lia Lopes (coordenadora administrativa) receberam\, no BPC\, em 09 de maio\, membros da delegação da União Europeia no Brasil. Durante a visita\, os senhores Alexandre Stuzmann\, Concha La Puente e Ana Paula Zacarias conversaram sobre algumas das pesquisas do BPC e discutiram alguns dos recentes projetos em áreas de cooperação e desenvolvimento\, de segurança e de desenvolvimento urbano. A reunião foi também uma oportunidade de conhecer o trabalho\, interesses e atividades da delegação da União Europeia no Brasil.
URL:https://bricspolicycenter.org/eventos/o-brics-policy-center-recebe-membros-da-delegacao-da-ue-no-brasil/
LOCATION:BRICS Policy Center (antigo)\, Rua Dona Mariana\, 63\, Rio de Janeiro\, Rio de Janeiro\, 22280020\, Brasil
CATEGORIES:Workshop
ATTACH;FMTTYPE=image/jpeg:https://bricspolicycenter.org/wp-content/uploads/2018/08/z37.jpg
END:VEVENT
BEGIN:VEVENT
DTSTART;VALUE=DATE:20140513
DTEND;VALUE=DATE:20140514
DTSTAMP:20260424T105129
CREATED:20140513T182400Z
LAST-MODIFIED:20180827T174145Z
UID:7169-1399939200-1400025599@bricspolicycenter.org
SUMMARY:BRICS Policy Center recebeu vistantes da Albuquerque International Association
DESCRIPTION:O BRICS Policy Center recebeu\, no dia 13 de maio\, vistantes da Albuquerque International Association que desejavam conhecer mais sobre o agrupamento dos BRICS e também sobre a cultura urbana brasileira. O encontro foi realizado no Centro com a participação do Prof. Sérgio Veloso\, coordenador do BRICS-Urbe\, que recebeu o grupo e orientou a discussão e a troca de ideias sobre o futuro do desenvolvimento do Brasil.
URL:https://bricspolicycenter.org/eventos/brics-policy-center-recebeu-vistantes-da-albuquerque-international-association/
LOCATION:BRICS Policy Center (antigo)\, Rua Dona Mariana\, 63\, Rio de Janeiro\, Rio de Janeiro\, 22280020\, Brasil
CATEGORIES:Workshop
ATTACH;FMTTYPE=image/jpeg:https://bricspolicycenter.org/wp-content/uploads/2018/08/z35.jpg
END:VEVENT
END:VCALENDAR