BEGIN:VCALENDAR
VERSION:2.0
PRODID:-//brq - ECPv6.10.3//NONSGML v1.0//EN
CALSCALE:GREGORIAN
METHOD:PUBLISH
X-ORIGINAL-URL:https://bricspolicycenter.org
X-WR-CALDESC:Eventos para brq
REFRESH-INTERVAL;VALUE=DURATION:PT1H
X-Robots-Tag:noindex
X-PUBLISHED-TTL:PT1H
BEGIN:VTIMEZONE
TZID:America/Sao_Paulo
BEGIN:STANDARD
TZOFFSETFROM:-0200
TZOFFSETTO:-0300
TZNAME:-03
DTSTART:20140216T020000
END:STANDARD
BEGIN:DAYLIGHT
TZOFFSETFROM:-0300
TZOFFSETTO:-0200
TZNAME:-02
DTSTART:20141019T030000
END:DAYLIGHT
END:VTIMEZONE
BEGIN:VEVENT
DTSTART;VALUE=DATE:20140402
DTEND;VALUE=DATE:20140403
DTSTAMP:20260424T123017
CREATED:20140402T185118Z
LAST-MODIFIED:20180827T171914Z
UID:7185-1396396800-1396483199@bricspolicycenter.org
SUMMARY:GSUM seleciona seus três primeiros fellows
DESCRIPTION:É com grande prazer que o GSUM anuncia o enorme sucesso do seu Programa de Fellows 2014. Recebemos mais de 25 excelentes candidaturas de acadêmicos e/ou profissionais altamente qualificados\, de mais de 20 nacionalidades diferentes. As propostas foram enviadas de diferentes regiões do Sul Global e do mundo (veja a figura ao lado). \nApós uma cuidadosa revisão do histórico\, das qualificações e das experiências profissionais e/ou acadêmicas dos candidatos\, bem como das propostas de curso extremamente inovadoras sobre mediação internacional\, estamos felizes em anunciar a seleção das seguintes candidatas como Fellows 2014 do GSUM: \n•Borislava Manojlovic\, School of Diplomacy And International Relations\, Seton Hall University (EUA)\, Sérvia \n•Catherine Ali\, The University of the West Indies\, St. Augustine Campus\, Trinidad e Tobago/Irlanda \n•Maria Cecilia Milesi\, Somaliland Focus (Reino Unido) Conciliation Resources (UK)\, Argentina \nDurante o programa\, as pesquisadoras visitantes participarão dos workshops organizados pelo GSUM\, produzirão Policy Briefs e/ou artigos acadêmicos\, bem como lecionarão dois cursos de 15h sobre tópicos relacionados à resolução e à mediação de conflitos internacionais durante a Escola de Inverno do GSUM\, que acontecerá no Instituto de Relações Internacionais da PUC-Rio entre os dias 28 de junho e 08 de agosto de 2014 na cidade do Rio de Janeiro\, Brasil. \nO GSUM e sua equipe agradecem a todos os candidatos por terem submetido suas propostas\, e aproveitamos a oportunidade para encorajá-los a participar da nossa Escola de Inverno do GSUM\, através do envio de suas candidaturas.  Em breve\, disponibilizaremos mais informações em nosso website.
URL:https://bricspolicycenter.org/eventos/gsum-seleciona-seus-tres-primeiros-fellows/
LOCATION:BRICS Policy Center (antigo)\, Rua Dona Mariana\, 63\, Rio de Janeiro\, Rio de Janeiro\, 22280020\, Brasil
CATEGORIES:Workshop
ATTACH;FMTTYPE=image/png:https://bricspolicycenter.org/wp-content/uploads/2018/08/z40.png
END:VEVENT
END:VCALENDAR