BEGIN:VCALENDAR
VERSION:2.0
PRODID:-//brq - ECPv6.10.3//NONSGML v1.0//EN
CALSCALE:GREGORIAN
METHOD:PUBLISH
X-ORIGINAL-URL:https://bricspolicycenter.org
X-WR-CALDESC:Eventos para brq
REFRESH-INTERVAL;VALUE=DURATION:PT1H
X-Robots-Tag:noindex
X-PUBLISHED-TTL:PT1H
BEGIN:VTIMEZONE
TZID:America/Sao_Paulo
BEGIN:STANDARD
TZOFFSETFROM:-0200
TZOFFSETTO:-0300
TZNAME:-03
DTSTART:20140216T020000
END:STANDARD
BEGIN:DAYLIGHT
TZOFFSETFROM:-0300
TZOFFSETTO:-0200
TZNAME:-02
DTSTART:20141019T030000
END:DAYLIGHT
END:VTIMEZONE
BEGIN:VEVENT
DTSTART;VALUE=DATE:20140227
DTEND;VALUE=DATE:20140228
DTSTAMP:20260424T151718
CREATED:20140227T200855Z
LAST-MODIFIED:20180827T193829Z
UID:7233-1393459200-1393545599@bricspolicycenter.org
SUMMARY:GSUM anuncia resultado do processo seletivo de alunos de mestrado do IRI/PUC-Rio
DESCRIPTION:A Unidade do Sul Global para Mediação (Global South Unit for Mediation – GSUM) finalizou o seu processo seletivo\, aprovando duas alunas de mestrado do Instituto de Relações Internacionais (IRI) da PUC-Rio:  Ana Clara Telles e Nathalia Braga. O Início do trabalho está previsto para o dia 11 de março de 2014. \nO GSUM parabeniza as alunas e deseja boas vindas!
URL:https://bricspolicycenter.org/eventos/gsum-anuncia-resultado-do-processo-seletivo-de-alunos-de-mestrado-do-iri-puc-rio/
LOCATION:BRICS Policy Center (antigo)\, Rua Dona Mariana\, 63\, Rio de Janeiro\, Rio de Janeiro\, 22280020\, Brasil
CATEGORIES:Workshop
ATTACH;FMTTYPE=image/jpeg:https://bricspolicycenter.org/wp-content/uploads/2018/08/z49.jpg
END:VEVENT
END:VCALENDAR