BEGIN:VCALENDAR
VERSION:2.0
PRODID:-//brq - ECPv6.10.3//NONSGML v1.0//EN
CALSCALE:GREGORIAN
METHOD:PUBLISH
X-WR-CALNAME:brq
X-ORIGINAL-URL:https://bricspolicycenter.org
X-WR-CALDESC:Eventos para brq
REFRESH-INTERVAL;VALUE=DURATION:PT1H
X-Robots-Tag:noindex
X-PUBLISHED-TTL:PT1H
BEGIN:VTIMEZONE
TZID:America/Sao_Paulo
BEGIN:STANDARD
TZOFFSETFROM:-0200
TZOFFSETTO:-0300
TZNAME:-03
DTSTART:20170219T020000
END:STANDARD
BEGIN:DAYLIGHT
TZOFFSETFROM:-0300
TZOFFSETTO:-0200
TZNAME:-02
DTSTART:20171015T030000
END:DAYLIGHT
END:VTIMEZONE
BEGIN:VEVENT
DTSTART;TZID=America/Sao_Paulo:20170831T170000
DTEND;TZID=America/Sao_Paulo:20170831T190000
DTSTAMP:20260422T214436
CREATED:20180119T160045Z
LAST-MODIFIED:20180813T193713Z
UID:3285-1504198800-1504206000@bricspolicycenter.org
SUMMARY:Desigualdade\, desenvolvimento global e gênero
DESCRIPTION:Desigualdade\, desenvolvimento global e gênero será o tema da aula inaugural do Mestrado Profissional (MAPI) do Instituto de Relações Internacionais da PUC-Rio\, no dia 31 de agosto\, com a participação de Winnie Byanyima\, Diretora Executiva da Oxfam International. O encontro terá início às 17:00hs no BRICS Policy Center\, e será seguido de um coquetel no mesmo local. O evento será ministrado em inglês e não haverá tradução simultânea. \nPara participar da aula\, pedimos gentilmente que confirme a presença através do e-mail atendimento@bricspolicycenter.org. Os lugares são limitados.
URL:https://bricspolicycenter.org/eventos/desigualdade-desenvolvimento-global-e-genero/
LOCATION:Rio de Janeiro
CATEGORIES:Palestra
ATTACH;FMTTYPE=image/jpeg:https://bricspolicycenter.org/wp-content/uploads/2018/01/ev13.jpg
END:VEVENT
END:VCALENDAR