BEGIN:VCALENDAR
VERSION:2.0
PRODID:-//brq - ECPv6.10.3//NONSGML v1.0//EN
CALSCALE:GREGORIAN
METHOD:PUBLISH
X-ORIGINAL-URL:https://bricspolicycenter.org
X-WR-CALDESC:Eventos para brq
REFRESH-INTERVAL;VALUE=DURATION:PT1H
X-Robots-Tag:noindex
X-PUBLISHED-TTL:PT1H
BEGIN:VTIMEZONE
TZID:America/Sao_Paulo
BEGIN:STANDARD
TZOFFSETFROM:-0200
TZOFFSETTO:-0300
TZNAME:-03
DTSTART:20170219T020000
END:STANDARD
BEGIN:DAYLIGHT
TZOFFSETFROM:-0300
TZOFFSETTO:-0200
TZNAME:-02
DTSTART:20171015T030000
END:DAYLIGHT
END:VTIMEZONE
BEGIN:VEVENT
DTSTART;TZID=America/Sao_Paulo:20170614T170000
DTEND;TZID=America/Sao_Paulo:20170614T190000
DTSTAMP:20260423T005806
CREATED:20170713T191528Z
LAST-MODIFIED:20170713T191528Z
UID:1342-1497459600-1497466800@bricspolicycenter.org
SUMMARY:A Cooperação África do Sul x República Democrática do Congo para a paz\, governança e desenvolvimento
DESCRIPTION:O Instituto de Relações Internacionais da PUC-Rio (IRI/PUC-Rio)\, através de seu Mestrado Profissional em Análise e Gestão de Políticas Internacionais: Resolução de Conflitos e Cooperação para o Desenvolvimento (MAPI) organizará nesta quarta-feira\, dia 14 de junho\, 2017\, o evento “A Cooperação África do Sul x República Democrática do Congo para a paz\, governança e desenvolvimento”.  \nO colóquio será apresentado por Neissan Besharati\, pesquisador do SAIIA e IGD (África do Sul)\, professor visitante do MAPI/IRI e fellow do BRICS Policy Center. \nO evento acontecerá às 17h\, no Auditório do IRI 2 \nRua Marquês de São Vicente\, 232\, Gávea\, Rio de Janeiro
URL:https://bricspolicycenter.org/eventos/a-cooperacao-africa-do-sul-x-republica-democratica-do-congo-para-a-paz-governanca-e-desenvolvimento/
LOCATION:Auditório do IRI 2\, Rua Marquês de São Vicente\, 232 - Loja A\, Rio de Janeiro\, Rio de Janeiro\, 22451-045\, Brasil
CATEGORIES:Palestra
ATTACH;FMTTYPE=image/jpeg:https://bricspolicycenter.org/wp-content/uploads/2017/07/neissan_besharati_coop_asrdc.jpg
END:VEVENT
END:VCALENDAR