BEGIN:VCALENDAR
VERSION:2.0
PRODID:-//brq - ECPv6.10.3//NONSGML v1.0//EN
CALSCALE:GREGORIAN
METHOD:PUBLISH
X-WR-CALNAME:brq
X-ORIGINAL-URL:https://bricspolicycenter.org
X-WR-CALDESC:Eventos para brq
REFRESH-INTERVAL;VALUE=DURATION:PT1H
X-Robots-Tag:noindex
X-PUBLISHED-TTL:PT1H
BEGIN:VTIMEZONE
TZID:America/Sao_Paulo
BEGIN:STANDARD
TZOFFSETFROM:-0200
TZOFFSETTO:-0300
TZNAME:-03
DTSTART:20170219T020000
END:STANDARD
BEGIN:DAYLIGHT
TZOFFSETFROM:-0300
TZOFFSETTO:-0200
TZNAME:-02
DTSTART:20171015T030000
END:DAYLIGHT
END:VTIMEZONE
BEGIN:VEVENT
DTSTART;TZID=America/Sao_Paulo:20170130T150000
DTEND;TZID=America/Sao_Paulo:20170130T170000
DTSTAMP:20260423T091541
CREATED:20170130T152658Z
LAST-MODIFIED:20180829T164301Z
UID:7538-1485788400-1485795600@bricspolicycenter.org
SUMMARY:Bridging the gap between BRICS and Africa: a look at trade between the BRICS and the East African Community
DESCRIPTION:Convidamos a todos/as para o próximo evento do nosso laboratório. A palestra será com a pesquisadora Maria Nagawa\, fellow do BRICS Policy Center. \nA palestra tem o título “Bridging the gap between BRICS and Africa: a look at trade between the BRICS and the East African Community”\, e ocorrerá no dia 30/01/2017 (segunda-feira)\, das 15 às 17hs\, no auditório Paulo Freire/ICHS.
URL:https://bricspolicycenter.org/eventos/bridging-the-gap-between-brics-and-africa-a-look-at-trade-between-the-brics-and-the-east-african-community/
LOCATION:Auditório Paulo Freire\, Rodovia BR 465 Km 7 Campus Universitário Zona Rural\, Seropédica\, RJ\, 23851-970\, Brasil
CATEGORIES:Palestra
ATTACH;FMTTYPE=image/jpeg:https://bricspolicycenter.org/wp-content/uploads/2018/08/z63.jpg
END:VEVENT
END:VCALENDAR