BEGIN:VCALENDAR
VERSION:2.0
PRODID:-//brq - ECPv6.10.3//NONSGML v1.0//EN
CALSCALE:GREGORIAN
METHOD:PUBLISH
X-ORIGINAL-URL:https://bricspolicycenter.org
X-WR-CALDESC:Eventos para brq
REFRESH-INTERVAL;VALUE=DURATION:PT1H
X-Robots-Tag:noindex
X-PUBLISHED-TTL:PT1H
BEGIN:VTIMEZONE
TZID:America/Sao_Paulo
BEGIN:STANDARD
TZOFFSETFROM:-0200
TZOFFSETTO:-0300
TZNAME:-03
DTSTART:20150222T020000
END:STANDARD
BEGIN:DAYLIGHT
TZOFFSETFROM:-0300
TZOFFSETTO:-0200
TZNAME:-02
DTSTART:20151018T030000
END:DAYLIGHT
END:VTIMEZONE
BEGIN:VEVENT
DTSTART;VALUE=DATE:20151215
DTEND;VALUE=DATE:20151216
DTSTAMP:20260424T050853
CREATED:20171116T143406Z
LAST-MODIFIED:20171116T143406Z
UID:2510-1450137600-1450223999@bricspolicycenter.org
SUMMARY:Palestra "Política Nuclear Brasileira"
DESCRIPTION:No dia 15 de dezembro\, a professora do IRI e coordenadora do Brazilian Nuclear Policy\, Monica Herz\, realizou a palestra “Política Nuclear Brasileira” no German Institute of Global and Area Studies – GIGA\, em Hamburgo\, Alemanha. \nMais informações aqui.
URL:https://bricspolicycenter.org/eventos/palestra-politica-nuclear-brasileira/
LOCATION:Rio de Janeiro
CATEGORIES:Palestra
ATTACH;FMTTYPE=image/jpeg:https://bricspolicycenter.org/wp-content/uploads/2017/11/Giga.jpeg
END:VEVENT
END:VCALENDAR